BEGIN:VCALENDAR
VERSION:2.0
PRODID:-//jEvents 2.0 for Joomla//EN
CALSCALE:GREGORIAN
METHOD:PUBLISH
BEGIN:VEVENT
UID:d35322f197f7f8ca0d82eac29240e58a
CATEGORIES:Stammtische
CREATED:20241219T140924
SUMMARY:Stammtisch
LOCATION:Dokopilweiher
URL;VALUE=URI:https://fischereiverein-pfeffenhausen.de/termine/eventdetail/37/-/stammtisc
 h?tmpl=component
DESCRIPTION: Dieser Event wurde importiert von: https://fischereiverein-pfeffenhausen.d
 e/termine/eventdetail/37/-/stammtisch?tmpl=component (https://fischereivere
 in-pfeffenhausen.de/termine/eventdetail/37/-/stammtisch?tmpl=component)
X-ALT-DESC;FMTTYPE=text/html: <a href="https://fischereiverein-pfeffenhausen.de/termine/eventdetail/37/-
 /stammtisch?tmpl=component">Dieser Event wurde importiert von: https://fisc
 hereiverein-pfeffenhausen.de/termine/eventdetail/37/-/stammtisch?tmpl=compo
 nent</a>DTSTAMP:20260420T035256
DTSTART:20250801T200000
SEQUENCE:0
TRANSP:OPAQUE
END:VEVENT
END:VCALENDAR